BEGIN:VCALENDAR
VERSION:2.0
PRODID:-//wp-events-plugin.com//7.2.3.1//EN
TZID:Europe/Berlin
X-WR-TIMEZONE:Europe/Berlin
BEGIN:VEVENT
UID:227@andersmacher.w-hs.de
DTSTART;TZID=Europe/Berlin:20240819T140000
DTEND;TZID=Europe/Berlin:20240819T180000
DTSTAMP:20240805T045300Z
URL:https://andersmacher.w-hs.de/veranstaltungen/workshop_souveraenes_auft
 reten/
SUMMARY:Power Posen: So kannst du Körpersprache für dich nutzen
DESCRIPTION:Souveränes Auftreten für Gründerinnen\, Gründer und alle\,
  die gerne ihre Körpersprache zu ihrer Stärke machen wollen.\n\nErlebe e
 ine Reise durch die Welt der Außenwirkung! In diesem praktischen Workshop
  erforschen wir gemeinsam:\n\n 	Wie wirke ich auf andere?\n 	Welche Auswir
 kung hat meine innere Haltung auf mein Auftreten und wie kann ich das beei
 nflussen?\n 	Wie kann mir mein Körper helfen\, gut mit Lampenfieber umzug
 ehen?\n 	Was hat die Stimme damit zu tun?\n 	Und vieles mehr!\n\nGemeinsam
  erkunden wir\, wie du deine Körpersprache zur Stärke machst und souver
 än auftrittst.\n\nWann: Montag\, 19. August 2024\nWo: Raum B2.0.24 Campus
  Gelsenkirchen\nZeitraum: 14.00 bis 18.00 Uhr\n\n&nbsp\;
ATTACH;FMTTYPE=image/jpeg:https://andersmacher.w-hs.de/wp-content/uploads/
 Power-Posen-Website.jpg
END:VEVENT
BEGIN:VTIMEZONE
TZID:Europe/Berlin
X-LIC-LOCATION:Europe/Berlin
BEGIN:DAYLIGHT
DTSTART:20240331T030000
TZOFFSETFROM:+0100
TZOFFSETTO:+0200
TZNAME:CEST
END:DAYLIGHT
END:VTIMEZONE
END:VCALENDAR