BEGIN:VCALENDAR
VERSION:2.0
PRODID:-//wp-events-plugin.com//7.2.3.1//EN
TZID:Europe/Berlin
X-WR-TIMEZONE:Europe/Berlin
BEGIN:VEVENT
UID:77@andersmacher.w-hs.de
DTSTART;TZID=Europe/Berlin:20211117T180000
DTEND;TZID=Europe/Berlin:20211117T200000
DTSTAMP:20211111T152124Z
URL:https://andersmacher.w-hs.de/veranstaltungen/workshop-vertrieb-kunden-
 identifizieren-und-ansprechen-mit-mario-stahl/
SUMMARY:Workshop: Vertrieb - Kunden identifizieren und Ansprechen mit Mario
  Stahl
DESCRIPTION:Ort: Büroräume von nerd_force1\, am Husemannplatz 5a in Bo
 chum\n(im Gebäude der Deutschen Bank\, gegenüber der Wirtschaftsförderu
 ng Bochum)\n\nEiner der ersten und wichtigsten Schritte\, um eine Geschäf
 tsidee zum wirtschaftlichen Erfolg zu führen\, ist die Identifikation der
  Zielkunden. Dabei ist vor allem die Ansprache entscheidend für eine nach
 haltig erfolgreiche Geschäftsbeziehung. Auf folgende Fragen wird der Work
 shop eine Antwort liefern:\n\n- Was ist B2B und B2C?\n- Was ist der Unters
 chied zwischen Vertrieb und Marketing?\n- Wer ist mein Kunde und wo finde 
 ich Ihn?\n- Welche Bedürfnisse und Schmerzpunkte hat mein potenzieller Ku
 nde?\n- Was gilt es bei der Kundenansprache zu beachten?\n- Wie spreche ic
 h meinen Kunden an?\n\nNach dem Workshop erwartet Dich ein bisschen Networ
 king bei kühlen Getränken und Snacks.\n\nDie Anmeldung für diesen Works
 hop erfolgt diesmal über Eventbrite: Klicke dazu auf den nachfolgenden Li
 nk https://workshop-vertrieb.eventbrite.de. Wir freuen uns auf Deine Teiln
 ahme.\n\n&nbsp\;\n\n&nbsp\;
ATTACH;FMTTYPE=image/jpeg:https://andersmacher.w-hs.de/wp-content/uploads/
 Matio-Stahl.jpg
END:VEVENT
BEGIN:VTIMEZONE
TZID:Europe/Berlin
X-LIC-LOCATION:Europe/Berlin
BEGIN:STANDARD
DTSTART:20211031T020000
TZOFFSETFROM:+0200
TZOFFSETTO:+0100
TZNAME:CET
END:STANDARD
END:VTIMEZONE
END:VCALENDAR