BEGIN:VCALENDAR
VERSION:2.0
PRODID:-//wp-events-plugin.com//7.2.3.1//EN
TZID:Europe/Berlin
X-WR-TIMEZONE:Europe/Berlin
BEGIN:VEVENT
UID:188@andersmacher.w-hs.de
DTSTART;TZID=Europe/Berlin:20230601T140000
DTEND;TZID=Europe/Berlin:20230601T160000
DTSTAMP:20230517T054018Z
URL:https://andersmacher.w-hs.de/veranstaltungen/workshop-selbstaendigkeit
 -als-berufsweg-bin-ich-ein-gruenderinnen-typ/
SUMMARY:Workshop: Selbständigkeit als Berufsweg. Bin ich ein Gründer:inne
 n-Typ?
DESCRIPTION:\n\n\n\nHast du schon mal daran gedacht\, dass es schöner wär
 e\, selbstständig zu arbeiten\, unabhängig zu sein und Dein eigener Chef
  zu sein?\n\nUnd hast Du diesen Gedanken womöglich wieder verworfen\, wei
 l Du der Meinung warst\, das sei nichts für Dich? Selbstständigkeit verb
 indest Du mit Unsicherheit\, Stress\, zu viel Arbeit und zu wenig Geld? De
 nkst Du\, Du wärst eh nicht der Typ dafür und hättest sowieso keine Ide
 e?\nIn unserem Methodenworkshop zeigen wir Dir\, welche Eigenschaften und 
 Fähigkeiten Du tatsächlich benötigst\, um Dich erfolgreich selbstständ
 ig zu machen.\nWir erklären Dir\, welche Schritte nötig sind\, erläuter
 n die Pros und Contras einer Gründung und was Du bei Deiner Entscheidungs
 findung beachten solltest.\nOrt: Hochschule Bochum\, Konrad-Zuse-Str. 12\,
  Raum 15\nAnmeldung über Eventbrite:\nhttps://workshop-selbstaendigkeit.e
 ventbrite.de\n\n\n\n
ATTACH;FMTTYPE=image/jpeg:https://andersmacher.w-hs.de/wp-content/uploads/
 Bild-3.jpg
END:VEVENT
BEGIN:VTIMEZONE
TZID:Europe/Berlin
X-LIC-LOCATION:Europe/Berlin
BEGIN:DAYLIGHT
DTSTART:20230326T030000
TZOFFSETFROM:+0100
TZOFFSETTO:+0200
TZNAME:CEST
END:DAYLIGHT
END:VTIMEZONE
END:VCALENDAR