BEGIN:VCALENDAR
VERSION:2.0
PRODID:-//wp-events-plugin.com//7.2.3.1//EN
TZID:Europe/Berlin
X-WR-TIMEZONE:Europe/Berlin
BEGIN:VEVENT
UID:230@andersmacher.w-hs.de
DTSTART;TZID=Europe/Berlin:20241022T140000
DTEND;TZID=Europe/Berlin:20241022T160000
DTSTAMP:20241017T124033Z
URL:https://andersmacher.w-hs.de/veranstaltungen/workshop-mut-und-selbstwi
 rksamkeit/
SUMMARY:Workshop: Selbstwirksamkeit & Persönlichkeitsentwicklung
DESCRIPTION:Spricht man mit anderen Gründer:innen oder Unternehmer:innen\,
  dann bekommt man schnell zu hören: Es gibt kaum etwas anderes\, was so v
 iel Selbstvertrauen gibt wie die Selbstständigkeit oder die Gründung ein
 es Unternehmens.\n\nDoch wäre es da nicht gut\, wenn man grundsätzlich d
 avon überzeugt ist\, dass man alle Herausforderungen\, denen man begegnet
 \, gut bewältigen kann?\n\nIm Workshop "Selbstwirksamkeit &amp\; Persönl
 ichkeitsentwicklung“ tun wir genau das. Wir sprechen darüber wie wir di
 e eigene Selbstwirksamkeit\, das Selbstvertrauen und die eigene Persönlic
 hkeit einsetzen können\, sodass wir noch mehr an uns selbst und unseren E
 rfolg glauben.\n\nMit praktischen Tipps und Hacks könnt ihr danach eigens
 tändig daran arbeiten eurer Selbstvertrauen zu erhöhen.\n\nDer Workshop 
 von Britta Cornelißen hat zum Ziel\, dass die Teilnehmenden ein Bewusstse
 in für ihre eigenen\nStärken entwickeln\, aktiv an ihrer Selbstwirksamke
 it arbeiten und ihre individuelle Definition von\n"Mut" festlegen.\n\nIm W
 orkshop werden wir die folgenden Inhalte behandeln:\n\n 	Was ist Selbstwir
 ksamkeit\, warum ist sie wichtig und vor allem\, wie kann sie erhöht werd
 en?\n 	Warum ist es so wichtig\, über Stärken zu sprechen und diese im (
 Gründer:innen-) Alltag einzusetzen?\n 	Wie kann ich es lernen\, über per
 sönliche Erfolge zu reflektieren und diese zu kommunizieren?\n 	Wie etabl
 iere ich "Wachstumsdenken" (Das kann ich "noch" nicht. Das kann ich noch l
 ernen!)\n 	Was bedeutet Mut für mich persönlich?\n 	Erarbeiten von Routi
 nen zur Erhöhung der Selbstwirksamkeitserwartung\n 	Praktische Übungen f
 ür den (Gründer:innen-)Alltag (einzeln oder in kleineren Gruppen)\n 	Pra
 ktische Hacks und "quick wins" für den (Gründer:innen-) Alltag\n\n&nbsp\
 ;\n\nDu hast Lust an dem Workshop teilzunehmen? Kein Problem!\nMelde dich 
 jetzt unten im Formular an. Wir freuen uns auf dich!\n\nAlle Infos auf ein
 en Blick:\nDatum: 22.10.2024\nZeit: 14:00 bis 16:00 Uhr\nOrt: Online via Z
 oom (Link wird kurz vor der Veranstaltung per Mail versendet)\n\n&nbsp\;\n
 \nWichtig:\n\nFür den Workshop bitten wir euch vorab einen Persönlichkei
 tsfragebogen online auszufüllen. Tut dies bis Montag\, den 21.10.2024. Mi
 t Hilfe dieses Fragebogens setzen wir uns im Rahmen des Workshops mit dein
 er Persönlichkeit auseinander. Alle Informationen zum Ausfüllen finden d
 u direkt in der Beschreibung des Fragebogens (diesen erhältst du bei der 
 Anmeldung per Mail). Selbstverständlich bekommst du im Zuge des Workshops
  eine individuelle Rückmeldung zu den Ergebnissen. Zusätzlich hast du be
 i einem weiteren Termin Zeit\, um mit Britta persönlich und allein über 
 die Ergebnisse deines Persönlichkeitstests zu sprechen.
ATTACH;FMTTYPE=image/jpeg:https://andersmacher.w-hs.de/wp-content/uploads/
 Bild-Britta-Website-scaled.jpg
END:VEVENT
BEGIN:VTIMEZONE
TZID:Europe/Berlin
X-LIC-LOCATION:Europe/Berlin
BEGIN:DAYLIGHT
DTSTART:20240331T030000
TZOFFSETFROM:+0100
TZOFFSETTO:+0200
TZNAME:CEST
END:DAYLIGHT
END:VTIMEZONE
END:VCALENDAR