BEGIN:VCALENDAR
VERSION:2.0
PRODID:-//wp-events-plugin.com//7.2.3.1//EN
TZID:Europe/Berlin
X-WR-TIMEZONE:Europe/Berlin
BEGIN:VEVENT
UID:270@andersmacher.w-hs.de
DTSTART;TZID=Europe/Berlin:20251209T140000
DTEND;TZID=Europe/Berlin:20251209T170000
DTSTAMP:20251117T075829Z
URL:https://andersmacher.w-hs.de/veranstaltungen/workshop-how-to-schweisse
 n-2025/
SUMMARY:Workshop: How to Schweißen 2025
DESCRIPTION:In unserem zweiteiligen Workshop „How to Schweißen“ erhäl
 tst Du neben einer Einführung: "Wissen rund ums Schweißen" auch die Mög
 lichkeit praktische Erfahrungen zu sammeln. Der Workshop richtet sich an a
 lle Interessierten\, egal welches Erfahrungslevel.\n\nTeil 1: Theorie (Vor
 aussetzung für Teil 2: Praxis)\n\nBeim „Wissen rund ums Schweißen“ g
 eht Christian Krause\, unser Coach und Mitarbeiter im Makerspace Recklingh
 ausen\, zunächst auf allgemeines Wissen ein und klärt Fragen wie z.B.:\n
 \n 	Was ist Schweißen?\n 	Welche Werkstoffe sind schweißbar?\n 	Woran e
 rkenne ich eine gute Schweißnaht?\n 	Schweißvorbereitung (Plasmaschneide
 r)\n 	Schweißverfahren (Lichtbogenhandschweißen &amp\; MIG/MAG-Schweiße
 n)\n\nKeine Sorge: Die verschiedenen theoretischen Themen werden sehr prax
 isorientiert vermittelt 😉\n\nAm Ende des ersten Teils widmen wir uns de
 r Arbeitssicherheit in Vorbereitung auf den zweiten Teil des Workshops. Ih
 r könnt euch am Workshoptag vor Ort bei Chris für den praktischen Teil a
 nmelden. Hierzu gibt es verschiedene Daten zur Auswahl\, so dass alle die 
 Möglichkeit haben sich praktisch in den darauffolgenden Tagen und Wochen 
 ausprobieren zu können😊\n\nTeil 2: Praxis \n\nIm praktischen Teil lern
 t ihr in Kleingruppen das Schweißen und könnt vor Ort im Makerspace erst
 e Erfahrungen beim Schweißen sammeln.\n\n 	Schweißvorbereitung (Plasmasc
 hneider)\n 	Schweißverfahren (Lichtbogenhandschweißen &amp\; MIG/MAG-Sch
 weißen)\n 	Erste eigene Schweißversuche\n\nAlle Fakten auf einen Blick:\
 n\n 	Datum: 09.12.2025\n 	Uhrzeit: 14:00-17:00h\n 	Ort: Campus Recklinghau
 sen\, August-Schmidt-Ring 10\; 45665 Recklinghausen\n 	Raum: B1.2.112\n\n
  Wir freuen uns auf deine Anmeldung 😊
ATTACH;FMTTYPE=image/jpeg:https://andersmacher.w-hs.de/wp-content/uploads/
 Post-Workshop-how-to-schweissen_Dezember.png
END:VEVENT
BEGIN:VTIMEZONE
TZID:Europe/Berlin
X-LIC-LOCATION:Europe/Berlin
BEGIN:STANDARD
DTSTART:20251026T020000
TZOFFSETFROM:+0200
TZOFFSETTO:+0100
TZNAME:CET
END:STANDARD
END:VTIMEZONE
END:VCALENDAR