BEGIN:VCALENDAR
VERSION:2.0
PRODID:-//wp-events-plugin.com//7.2.3.1//EN
TZID:Europe/Berlin
X-WR-TIMEZONE:Europe/Berlin
BEGIN:VEVENT
UID:191@andersmacher.w-hs.de
DTSTART;TZID=Europe/Berlin:20230628T133000
DTEND;TZID=Europe/Berlin:20230628T150000
DTSTAMP:20230523T091456Z
URL:https://andersmacher.w-hs.de/veranstaltungen/workshop-canvas-businessp
 lan-erstellen/
SUMMARY:Workshop: Canvas/ Businessplan erstellen
DESCRIPTION:Wie kommst Du auf eine gute Idee? Und wie entwickelst Du aus ih
 r ein funktionierendes Start-up?\nUm diese Fragen zu beantworten\, tauchen
  wir zusammen in Methoden ein\, die Deine Gedanken auf den Kopf stellen: m
 it Design Thinking\, Kreativtechniken und bewährten Vorgehensweisen. Der 
 Businessdeveloper Simon Böing-Messing wird mit Dir diese Fragestellungen 
 und Methoden in einem kurzweiligen Workshop intensiv erkunden und bearbeit
 en. Um an diesem Workshop teilzunehmen\, braucht es keine eigene Idee. Fal
 ls Du aber schon eine konkrete Idee im Kopf hast\, kannst Du diese gerne m
 itbringen und der Businessdeveloper der Andersmacher evaluiert sie gerne z
 usammen mit Dir.\nDu hast Interesse? Dann melde Dich jetzt unter dem nachf
 olgenden Buchungsformular an und werde zusammen mit dem Businessdeveloper 
 der Andersmacher am 28.06.2023 kreativ.\nHinweise zur Veranstaltung:\nDies
 e findet digital über Zoom statt. Der entsprechende Link zur Veranstaltun
 g wird Dir kurz vorher zugesendet.
ATTACH;FMTTYPE=image/jpeg:https://andersmacher.w-hs.de/wp-content/uploads/
 RVSC_Workshops_Simon-2-scaled.jpg
END:VEVENT
BEGIN:VTIMEZONE
TZID:Europe/Berlin
X-LIC-LOCATION:Europe/Berlin
BEGIN:DAYLIGHT
DTSTART:20230326T030000
TZOFFSETFROM:+0100
TZOFFSETTO:+0200
TZNAME:CEST
END:DAYLIGHT
END:VTIMEZONE
END:VCALENDAR