BEGIN:VCALENDAR
VERSION:2.0
PRODID:-//wp-events-plugin.com//7.2.3.1//EN
TZID:Europe/Berlin
X-WR-TIMEZONE:Europe/Berlin
BEGIN:VEVENT
UID:266@andersmacher.w-hs.de
DTSTART;TZID=Europe/Berlin:20251204T140000
DTEND;TZID=Europe/Berlin:20251204T180000
DTSTAMP:20251121T115759Z
URL:https://andersmacher.w-hs.de/veranstaltungen/weihnachtsbasteln-2025-im
 -makerspace-re/
SUMMARY:Weihnachtsbasteln 2025 im Makerspace RE
DESCRIPTION:🎄 Weihnachtsbasteln im Makerspace Recklinghausen der Westfä
 lischen Hochschule 🎄\n\nDie Adventszeit steht vor der Tür\, und was k
 önnte besser zur Einstimmung auf die festliche Jahreszeit passen als ein 
 kreatives Weihnachtsbasteln? Taucht ein in die inspirierende Atmosphäre d
 es Makerspaces und lasst eurer Kreativität freien Lauf!\n\nBei uns könnt
  ihr aus drei spannenden Bastelprojekten wählen: Gestaltet euer eigenes B
 rettchen mit individuellen Lasergravuren\, probiert euch im 3D-Druck (z.B.
  beim Erstellen von Ausstechfiguren zum Plätzchen backen) oder bastelt ei
 nen Weihnachtsbaum oder Tannenbaumschmuck aus Holz. Natürlich sind auch e
 igene Ideen herzlich willkommen – bringt eure Bastelideen mit\, und wir 
 unterstützen euch bei der Umsetzung!\n\nKommt vorbei und erlebt einen kre
 ativen entspannten Vorweihnachtsnachmittag im Makerspace!\n\n&nbsp\;\n\nAl
 le Infos auf einen Blick:\n\nDatum: 04.12.2025\nZeit: ab 14 Uhr\nOrt: Make
 rspace RE\, Campus Recklinghausen\, Raum B2.0.200
ATTACH;FMTTYPE=image/jpeg:https://andersmacher.w-hs.de/wp-content/uploads/
 Weihnachtsbasteln-2025-Recklinghausen-100.jpg
END:VEVENT
BEGIN:VTIMEZONE
TZID:Europe/Berlin
X-LIC-LOCATION:Europe/Berlin
BEGIN:STANDARD
DTSTART:20251026T020000
TZOFFSETFROM:+0200
TZOFFSETTO:+0100
TZNAME:CET
END:STANDARD
END:VTIMEZONE
END:VCALENDAR