BEGIN:VCALENDAR
VERSION:2.0
PRODID:-//wp-events-plugin.com//7.2.3.1//EN
TZID:Europe/Berlin
X-WR-TIMEZONE:Europe/Berlin
BEGIN:VEVENT
UID:271@andersmacher.w-hs.de
DTSTART;TZID=Europe/Berlin:20251204T140000
DTEND;TZID=Europe/Berlin:20251204T180000
DTSTAMP:20251121T133514Z
URL:https://andersmacher.w-hs.de/veranstaltungen/weihnachtsbasteln-2025-im
 -makerspace-halle1/
SUMMARY:Weihnachtsbasteln 2025 im Makerspace Halle1
DESCRIPTION:🎄 Weihnachtsbasteln in der Halle1 der Westfälischen Hochsch
 ule 🎄\n\nDie Adventszeit steht vor der Tür\, und was könnte besser zu
 r Einstimmung auf die festliche Jahreszeit passen als ein kreatives Weihna
 chtsbasteln? Taucht ein in die inspirierende Atmosphäre des Makerspaces u
 nd lasst eurer Kreativität freien Lauf!\n\nBei uns könnt ihr aus drei sp
 annenden Bastelprojekten wählen: Gestaltet euer eigenes Brettchen mit ind
 ividuellen Lasergravuren\, probiert euch im 3D-Druck (z.B. beim Erstellen 
 von Ausstechfiguren zum Plätzchen backen) oder bastelt einen Weihnachtsba
 um oder Tannenbaumschmuck aus Holz. Natürlich sind auch eigene Ideen herz
 lich willkommen – bringt eure Bastelideen mit\, und wir unterstützen eu
 ch bei der Umsetzung!\n\nKommt vorbei und erlebt einen kreativen entspannt
 en Vorweihnachtsnachmittag im Makerspace!\n\nHinweis: Bringt am besten ber
 eits eine Vektordatei (svg. dxv. dwg.) eures Lieblingsmotivs mit. So könn
 en wir die einzelnen Wünsche schneller umsetzen.\n\n&nbsp\;\n\nAlle Infos
  auf einen Blick:\n\nDatum: 04.12.2025\nZeit: ab 14 Uhr\nOrt: Makerspace H
 alle1\, Campus Gelsenkirchen\, Raum: B5.UG.01
ATTACH;FMTTYPE=image/jpeg:https://andersmacher.w-hs.de/wp-content/uploads/
 Weihanchtsbasteln-2025-Gelsenkirchen-100.jpg
END:VEVENT
BEGIN:VTIMEZONE
TZID:Europe/Berlin
X-LIC-LOCATION:Europe/Berlin
BEGIN:STANDARD
DTSTART:20251026T020000
TZOFFSETFROM:+0200
TZOFFSETTO:+0100
TZNAME:CET
END:STANDARD
END:VTIMEZONE
END:VCALENDAR