BEGIN:VCALENDAR
VERSION:2.0
PRODID:-//wp-events-plugin.com//7.2.3.1//EN
TZID:Europe/Berlin
X-WR-TIMEZONE:Europe/Berlin
BEGIN:VEVENT
UID:277@andersmacher.w-hs.de
DTSTART;TZID=Europe/Berlin:20260318T093000
DTEND;TZID=Europe/Berlin:20260327T183000
DTSTAMP:20260311T151428Z
URL:https://andersmacher.w-hs.de/veranstaltungen/start-up-bootcamp-gruende
 -dein-start-up-in-4-tagen-2/
SUMMARY:Start-up Bootcamp - Gründe dein Start-up in 4 Tagen
DESCRIPTION:Start-up Bootcamp - Gründe Dein Start-up in 4 Tagen\n\nOb alle
 in oder im Team:\n\nJetzt Geschäftsideen entwickeln und umsetzen!\n\nSpü
 rst Du dieses Feuer in Dir? Die Lust eine eigene Idee umzusetzen - statt d
 er Karriere im Konzern? Egal ob Du bereits eigene Ideen hast oder noch auf
  der Suche bist: Im Start-up Bootcamp lernst Du wie Du eine Geschäftsidee
  entwickelst\, einen Prototyp baust und ohne Kapitaleinsatz zum ersten Kun
 den bzw. zur ersten Kundin kommst.\n\nWas wäre\, wenn Du nur 4 Tage benö
 tigst\, um Deine Idee Wirklichkeit werden zu lassen?\n\nWir haben erfolgre
 iche Gründer:innen eingeladen und einen Fahrplan aufgestellt. Erfahre:\n\
 n 	was Dich wirklich langfristig motiviert\n 	wie Du eine Geschäftsidee o
 hne Kapitaleinsatz testest\n 	wie Du eine Infrastruktur &amp\; Prototyp au
 fbaust\n 	wie Du No-Budget-Marketing betreibst\n 	und wie Du ein unwiderst
 ehliches Angebot erstellst.\n\nTag 1: Mindset &amp\; Ideenfindung (digital
 )\n\nAn diesem Tag geht es nur um Dich. Deine Persönlichkeit\, Stärken\,
  Werte und Glaubenssätze. Was macht Dich aus? Was kannst Du bereits alles
 ? Was könnte Dich am Erfolg hindern? Und wie kannst Du all das\, was Du s
 chon mitbringst\, in einem Start-up einsetzen? Außerdem sprechen wir übe
 r Ängste und deren Stellenwert. Ein Tag voller Erkenntnisse.\n\nErkenntni
 sse\, die Dir dabei helfen werden\, die Ideen mit Deiner Grundmotivation a
 bzugleichen. Und wenn Du auf Ideensuche bist: Geschäftsideen zu entwickel
 n\, die zu Dir und Deiner Persönlichkeit passen.\n\nDas alles muss ein bi
 sschen wirken. Nach ein paar Tagen treffen wir uns dann zu Tag 2.\n\nDas e
 rwartet Dich:\n\nTag 2: Ideen &amp\; Teambuilding (in Präsenz)\n\nHeute w
 erden die Ideen in der Runde vorgestellt und Du kannst entscheiden:\n\nob 
 Du eine Deiner Ideen umsetzen willst und ggf. Teammitglieder suchst\noder 
 als Co-Founder:in an einer anderen Idee mitwirken möchtest.\nNach dem Tea
 mbuilding erfährst Du den genauen Plan zum Bootstrapping der Idee. Dann e
 ntwickeln wir ein Geschäftsmodell und legen die Parameter für ein MVP / 
 deinen Prototypen fest. Während des gesamten Workshops bekommen Du (und D
 eine Teammitglieder) Feedback und Sparring zur Idee durch unsere Coaches.\
 n\nTag 3 &amp\; 4: Markttest-Konzept und Umsetzung (in Präsenz)\n\nHier g
 eht es nun ans Eingemachte. Wir zeigen Dir\, wie Du mittels Bootstrapping 
 eine Geschäftsidee fast ohne Kapitaleinsatz an den Start bringst. Geschä
 ftsmodell entwickeln\, Infrastruktur aufbauen\, Positionierung erarbeiten 
 und Menschen mit Low-Budget Marketing und einem unwiderstehlichen Angebot 
 zu echten Kunden machen.\n\nPositionierung erarbeiten und Menschen mit Low
 -Budget Marketing und einem unwiderstehlichen Angebot zu echten Kunden mac
 hen.\n\nDann bist Du bereit für die ersten Umsätze. Lust mitzumachen?\n\
 nDann melde dich jetzt an!\n\n&nbsp\;\n\nAlle Fakten auf einen Blick:\n\nT
 ag 1: 18.03.2026\n09:30 bis 18:30 Uhr | Mindset &amp\; Ideenfindung | digi
 tales Meeting\, Zoom\n\nTag 2-4: 25.03. - 27.03.2026\n10 bis 18 Uhr | Umse
 tzung der Idee | in der KoFabrik\, Bochum 
ATTACH;FMTTYPE=image/jpeg:https://andersmacher.w-hs.de/wp-content/uploads/
 Startup-Bootcamp-Startup-Transfer-Banner-scaled.png
END:VEVENT
BEGIN:VTIMEZONE
TZID:Europe/Berlin
X-LIC-LOCATION:Europe/Berlin
BEGIN:STANDARD
DTSTART:20251026T020000
TZOFFSETFROM:+0200
TZOFFSETTO:+0100
TZNAME:CET
END:STANDARD
END:VTIMEZONE
END:VCALENDAR