BEGIN:VCALENDAR
VERSION:2.0
PRODID:-//wp-events-plugin.com//7.2.3.1//EN
TZID:Europe/Berlin
X-WR-TIMEZONE:Europe/Berlin
BEGIN:VEVENT
UID:187@andersmacher.w-hs.de
DTSTART;TZID=Europe/Berlin:20230530T100000
DTEND;TZID=Europe/Berlin:20230530T163000
DTSTAMP:20230517T053705Z
URL:https://andersmacher.w-hs.de/veranstaltungen/rvsc-founders-bootcamp/
SUMMARY:"RVSC Founders Bootcamp"
DESCRIPTION:Jetzt Dein Geschäftsmodell auf den Punkt bringen und präsenti
 eren können!\n\n30.05.2023\n\n16.06.2023\n\n23.06.2023\n\nDu hast ein Ges
 chäftsmodell entwickelt und möchtest durchstarten\, bist dir aber über 
 die nächsten Schritte nicht im Klaren? Im RVSC Founders Bootcamp lernst D
 u\, wie Du deine Gründung gezielt voranbringst und sie wichtigen Stakehol
 dern sicher präsentierst. Mit der Plattform kannst du dir deine Lernzeite
 n flexibel einteilen\, Inhalte nach Wunsch nochmal anschauen und dich selb
 st testen. Abgerundet wird dein Learning durch die Workshops mit deinen Co
 aches Moira und Nils. Diese sind wichtig für den Austausch und das finale
  Finetuning.\n\nMelde dich jetzt für das RVSC Founders Bootcamp an 😊
  \n\nBusiness Modeling\n\nFür die Umsetzung deines Vorhabens brauchst du
  einen Plan. Mit unserem "Strategiekompass" kannst du die Unternehmensentw
 icklung steuern\, die wichtigen Bereiche kontrollieren und baust deine kon
 krete 3-Jahres-Planung auf!\n\n\nPitch &amp\; Pitch Deck\n\nDer Pitch ist 
 ein zentrales Tool für Gründer*innen. Lerne\, wie man Pitchdecks konzept
 ioniert und was die zentralen Folien sind. Wir zeigen dir analytische Meth
 oden\, die dir helfen werden\, die relevantesten Informationen für deinen
  Pitch zusammenzutragen und zu codieren.\n\n\n\n\nZeitplan:\n\nDi. 30.05.2
 023\, 16.00 – 16.30 Uhr\, kurzes Onboarding E-Learning-Plattform (digita
 l)\n\n 	Selbstlernphase\n\nFr. 16.06.2023\, 10.00 – 16.30 Uhr\, Workshop
  Strategiekompass (in Präsenz)\n\n 	Selbstlernphase\n\nFr. 23.06.2023\, 1
 0.00 – 16.30 Uhr\, Workshop Pitch &amp\; Pitchdeck (in Präsenz)\n\nWer 
 kann teilnehmen? Einzelpersonen und Teams mit einem Geschäftsmodell (BMC)
  und einer Zugehörigkeit zu einer der drei Hochschulen (Westfälische Hoc
 hschule\, Fachhochschule Dortmund\, Hochschule Bochum).\n\nDie Präsenzter
 mine finden im Kreativzentrum SQuArE in der Lindemannstraße 79\, 44137 Do
 rtmund statt.\n\nLust Dein Business Model auf den Punkt zu bringen? Dann s
 tarte durch und melde Dich jetzt auf einen von nur 20 Plätzen an.\n\nAnme
 lden kannst du dich bis zum 26.05.2023 hier.\n\nDu hast noch Fragen? Dann 
 melde dich gern bei Jonas Jagdziewski telefonisch oder per Mail.\n\nTel: 0
 173 880 209 4\njonas.jagdziewski@fh-dortmund.de\n\n
ATTACH;FMTTYPE=image/jpeg:https://andersmacher.w-hs.de/wp-content/uploads/
 Bild-1.jpg
END:VEVENT
BEGIN:VTIMEZONE
TZID:Europe/Berlin
X-LIC-LOCATION:Europe/Berlin
BEGIN:DAYLIGHT
DTSTART:20230326T030000
TZOFFSETFROM:+0100
TZOFFSETTO:+0200
TZNAME:CEST
END:DAYLIGHT
END:VTIMEZONE
END:VCALENDAR