BEGIN:VCALENDAR
VERSION:2.0
PRODID:-//wp-events-plugin.com//7.2.3.1//EN
TZID:Europe/Berlin
X-WR-TIMEZONE:Europe/Berlin
BEGIN:VEVENT
UID:192@andersmacher.w-hs.de
DTSTART;TZID=Europe/Berlin:20230824T150000
DTEND;TZID=Europe/Berlin:20230824T190000
DTSTAMP:20230606T160833Z
URL:https://andersmacher.w-hs.de/veranstaltungen/ruhrvalley-convention-202
 3-science-meets-business/
SUMMARY:ruhrvalley Convention 2023: Science meets Business
DESCRIPTION:Hochschulen sind stark in Forschung und Entwicklung. Aber wie k
 ann es nach einem Projekt weitergehen? Welche Business Cases stecken in de
 n Ergebnissen und wie können daraus erfolgreiche Unternehmen entstehen? D
 iese Fragen wollen wir bei der unserer Convention in diesem Jahr gemeinsam
  mit unseren Gästen Jörg Gudat\, LABS.ruhr\, und Torben Lippmann\, Rad i
 m Dienst\, beantworten.\nJörg Gudat von LABS.ruhr unterstützt als Invest
 or und Berater verschiedene Science Start-ups und weiß\, worauf es ankomm
 t\, wenn Forscher*innen aus der Hochschule heraus gründen. 2021 hat das T
 eam von RadimDienst aus der Westfälischen Hochschule ihr Start-up zum Die
 nstrad-Leasing für den öffentlichen Dienst gegründet. Welche Erfahrunge
 n das Team nach einem Jahr gesammelt hat\, berichtet Gründer Torben Lippm
 ann.\nDie aktuellen ruhrvalley Forschungsprojekte reichen von neuen Konzep
 ten für Elektromobilität\, über Speicher-Technologien für Wasserstoff 
 aus regenerativen Quellen bis hin zu Datenökosystemen für Smart Cities. 
 Dabei sind viele spannende Lösungen entstanden. Lernt unsere Projekte in 
 den Science Pitching Sessions genauer kennen und erfahrt\, wie ihr euer Pr
 odukt oder eure Stadt damit ein Stück besser machen könnt.\nRund um die 
 Vorträge bleibt noch genug Zeit\, sich zu vernetzen: Erfahrt von jungen U
 nternehmen\, wie es ist im Ruhrgebiet zu gründen und vernetzt euch mit Me
 nschen aus Hochschulen\, Städten und Unternehmen\, die für die gleichen 
 Themen brennen wie ihr.\nPROGRAMM\n15.00 Uhr Ankommen\n15.30 Uhr Begrüßu
 ng\n15.45 Uhr Keynote Jörg Gudat\, LABS.ruhr: Science Entrepreneurship 
 – wie gelingt der Transfer?\n16.15 Uhr Keynote Torben Lippmann\, RadimDi
 enst: RIDE – erfolgreich ausgründen im Innovationsnetzwerk\n16.45 Uhr P
 ause\n17.15 Uhr Science Pitching Session\n18.15 Uhr ruhrvalley fair\n19.00
  Uhr Networking bei sommerlichem Buffett und Getränken\nOrt: Rotunde Boch
 um\, Konrad-Adenauer-Platz 3\, 44787 Bochum\nDie Anmeldung findest du hier
 .
ATTACH;FMTTYPE=image/jpeg:https://andersmacher.w-hs.de/wp-content/uploads/
 1685615137407.jpeg
END:VEVENT
BEGIN:VTIMEZONE
TZID:Europe/Berlin
X-LIC-LOCATION:Europe/Berlin
BEGIN:DAYLIGHT
DTSTART:20230326T030000
TZOFFSETFROM:+0100
TZOFFSETTO:+0200
TZNAME:CEST
END:DAYLIGHT
END:VTIMEZONE
END:VCALENDAR