BEGIN:VCALENDAR
VERSION:2.0
PRODID:-//wp-events-plugin.com//7.2.3.1//EN
TZID:Europe/Berlin
X-WR-TIMEZONE:Europe/Berlin
BEGIN:VEVENT
UID:278@andersmacher.w-hs.de
DTSTART;TZID=Europe/Berlin:20260326T140000
DTEND;TZID=Europe/Berlin:20260326T140000
DTSTAMP:20260127T142751Z
URL:https://andersmacher.w-hs.de/veranstaltungen/offene-fruehlingswerkstat
 t-in-den-makerspaces/
SUMMARY:Offene Frühlingswerkstatt in den Makerspaces
DESCRIPTION:Offene Frühlingswerkstatt in den Makerspaces der Westfälische
 n Hochschule\nDer Frühling steht vor der Tür – eine perfekte Gelegenhe
 it\, kreativ zu werden! In unserer offenen Frühlingswerkstatt laden wir e
 uch ein\, eigene kreative Projekte zu gestalten.\nIn den Makerspaces an de
 n Standorten Gelsenkirchen\, Bocholt und Recklinghausen habt ihr Raum\, Te
 chnik und Unterstützung\, um euren Ideen Form zu geben. Ob individuelles 
 Projekt\, persönliches Ostergeschenk oder einfach kreatives Ausprobieren:
  Ihr bringt die Idee mit – wir unterstützen euch bei der Umsetzung.\nWi
 r freuen uns auf ein kreatives Beisammensein mit euch! 🐣🌼\nAlle Info
 s auf einen Blick:\n📅 Datum: 26.03.2026🕑 Zeit: ab 14:00 Uhr📍 Ort:
  Makerspace Gelsenkirchen (Halle 1\, Raum B5.UG.01)\, Makerspace Bocholt (
 Raum B2.0.02)\, Makerspace Recklinghausen (Raum B2.0.200)
ATTACH;FMTTYPE=image/jpeg:https://andersmacher.w-hs.de/wp-content/uploads/
 Osterbasteln-1.png
END:VEVENT
BEGIN:VTIMEZONE
TZID:Europe/Berlin
X-LIC-LOCATION:Europe/Berlin
BEGIN:STANDARD
DTSTART:20251026T020000
TZOFFSETFROM:+0200
TZOFFSETTO:+0100
TZNAME:CET
END:STANDARD
END:VTIMEZONE
END:VCALENDAR