BEGIN:VCALENDAR
VERSION:2.0
PRODID:-//wp-events-plugin.com//7.2.3.1//EN
TZID:Europe/Berlin
X-WR-TIMEZONE:Europe/Berlin
BEGIN:VEVENT
UID:279@andersmacher.w-hs.de
DTSTART;TZID=Europe/Berlin:20260317T110000
DTEND;TZID=Europe/Berlin:20260317T120000
DTSTAMP:20260205T105442Z
URL:https://andersmacher.w-hs.de/veranstaltungen/infoveranstaltung-start-u
 p-transfer-nrw/
SUMMARY:Infoveranstaltung Start-up Transfer.NRW
DESCRIPTION:\n\nIhr arbeitet an einer Idee aus eurer Forschung und denkt da
 rüber nach\, wie ihr diese über euer Projekt hinaus weiterbringen könnt
 ? Dann möchten wir euch von den ANDERSMACHERN* auf die Förderlinie Start
 -up Transfer.NRW aufmerksam machen.\n\nStart-up Transfer.NRW richtet sich 
 an gründungsinteressierte Forschende an Bildungseinrichtungen\, die ihre 
 Forschungsergebnisse weiterentwickeln wollen. Durch das Programm werden Vo
 rhaben gefördert\, die auf technologischen\, betriebswirtschaftlichen ode
 r sozialen Innovationen beruhen – z. B. bei der Weiterentwicklung bis zu
 r Marktreife\, beim Proof of Concept/Prototyping sowie bei der Vorbereitun
 g der Gründung. Das Fördervolumen kann bis zu 270.000 € betragen.\n\nD
 ie Bewerbungsfrist endet am 31.07.2026 – wir unterstützen euch gern bei
  der Antragsstellung und begleiten euch im gesamten Prozess.\n\n📅 Infov
 eranstaltung am 17.03. um 11 Uhr (Zoom)\nIhr wollt mehr erfahren? In unser
 em digitalen Austausch informieren wir über die Förderung\, den Ablauf u
 nd die Antragstellung. Ergänzend stehen bereits geförderte Forschende in
  einer Q&amp\;A-Session für Fragen und Erfahrungsaustausch zur Verfügung
 .\n\nUm an der Infoveranstaltung teilzunehmen schreibt uns gerne eine Mail
  an andersmacher@w-hs.de\n\n
ATTACH;FMTTYPE=image/jpeg:https://andersmacher.w-hs.de/wp-content/uploads/
 Startup-Bootcamp-Startup-Transfer-Banner-1.png
END:VEVENT
BEGIN:VTIMEZONE
TZID:Europe/Berlin
X-LIC-LOCATION:Europe/Berlin
BEGIN:STANDARD
DTSTART:20251026T020000
TZOFFSETFROM:+0200
TZOFFSETTO:+0100
TZNAME:CET
END:STANDARD
END:VTIMEZONE
END:VCALENDAR