BEGIN:VCALENDAR
VERSION:2.0
PRODID:-//wp-events-plugin.com//7.2.3.1//EN
TZID:Europe/Berlin
X-WR-TIMEZONE:Europe/Berlin
BEGIN:VEVENT
UID:190@andersmacher.w-hs.de
DTSTART;TZID=Europe/Berlin:20230615T170000
DTEND;TZID=Europe/Berlin:20230615T183000
DTSTAMP:20230522T091228Z
URL:https://andersmacher.w-hs.de/veranstaltungen/hochschulcafe-how-to-free
 lance-2/
SUMMARY:Hochschulcafé: How to freelance!
DESCRIPTION:Diesmal beim Hochschulcafé mit dabei ist Ines Bovenschen. Sie 
 hat jahrelang als Selbstständige im Bereich Art Direction gearbeitet und
  weiß wie der Freelancer-Markt tickt.\n\nIn einem Online-Vortrag des RVS
 C zeigt sie dir\, welche Schritte Richtung Selbstständigkeit erforderlich
  sind. Freelancing kann ein Nebenverdienst sein oder auch dein Weg in die
  Selbstständigkeit. Das wichtigste dafür erfährst Du in diesem Vortrag.
 \n\nDu möchtest eigene Ideen verfolgen oder bereits neben dem Studium mit
  deinem Know-How Geld verdienen?\n\nAnmelden kannst du dich hier. Wir freu
 en uns auf dich!
ATTACH;FMTTYPE=image/jpeg:https://andersmacher.w-hs.de/wp-content/uploads/
 RVSC_Workshops_Website_Howtofreelance-1-scaled.jpg
END:VEVENT
BEGIN:VTIMEZONE
TZID:Europe/Berlin
X-LIC-LOCATION:Europe/Berlin
BEGIN:DAYLIGHT
DTSTART:20230326T030000
TZOFFSETFROM:+0100
TZOFFSETTO:+0200
TZNAME:CEST
END:DAYLIGHT
END:VTIMEZONE
END:VCALENDAR