BEGIN:VCALENDAR
VERSION:2.0
PRODID:-//wp-events-plugin.com//7.2.3.1//EN
TZID:Europe/Berlin
X-WR-TIMEZONE:Europe/Berlin
BEGIN:VEVENT
UID:186@andersmacher.w-hs.de
DTSTART;TZID=Europe/Berlin:20230523T160000
DTEND;TZID=Europe/Berlin:20230523T200000
DTSTAMP:20230517T052813Z
URL:https://andersmacher.w-hs.de/veranstaltungen/finanzen-die-grosse-unbek
 annte-mit-bjoern-angenendt-von-cocofinance/
SUMMARY:Finanzen - die große Unbekannte? mit Björn Angenendt von Cocofina
 nce
DESCRIPTION:Finanzierung\, Start-up und Investoren: Wichtige Aspekte für e
 rfolgreiches Unternehmertum\nWas erwartet Euch in unserem Workshop? Wir we
 rden uns mit den folgenden Fragen beschäftigen:\n- Was sollen diese Zahle
 n alle überhaupt?\n- Warum sollte ich mich mit Finanzen beschäftigen?\n-
  Was für eine Rolle spielen Finanzen in Startups?\n- Wie erzähle ich mei
 ne Geschichte? = (Financial) Storytelling\n- Hilfe\, ich brauche Kohle! od
 er wie Finanzieren in mein Start-Up?\n- Wie finde ich die ‘richtigen‘ 
 Investor:innen? = Investor Readiness &amp\; Tips und Tricks\nAls Gründer 
 oder Gründerin eines Start-ups kann es schwierig sein\, sich mit Finanzen
  und Investoren zu beschäftigen. Doch gerade in dieser Phase des Unterneh
 mens ist es entscheidend\, die richtigen Entscheidungen zu treffen und die
  Finanzen im Blick zu behalten. Aber was sollen diese Zahlen überhaupt? 
 Warum sollte ich mich überhaupt mit Finanzen beschäftigen? Und welche Ro
 lle spielen Finanzen in Start-ups? Zahlen sind wichtig\, um den Erfolg des
  Unternehmens zu messen und zu steuern. Sie zeigen\, wie viel Geld hereink
 ommt und wie viel ausgegeben wird\, wie hoch die Gewinne und Verluste sind
  und wie viel Kapital das Unternehmen benötigt\, um zu wachsen. Durch die
  Auseinandersetzung mit Finanzen und Zahlen können Gründerinnen und Grü
 nder frühzeitig erkennen\, welche Ressourcen sie benötigen und welche In
 vestitionen sich langfristig lohnen.Finanzen spielen eine entscheidende Ro
 lle in Start-ups\, da diese oft noch kein etabliertes Geschäftsmodell hab
 en und hohe Investitionen benötigen\, um zu wachsen. Eine gut geplante Fi
 nanzierung ist deshalb entscheidend für den Erfolg eines Start-ups.\nUm I
 nvestoren zu überzeugen\, ist es wichtig\, eine überzeugende Geschichte 
 zu erzählen. Financial Storytelling hilft dabei\, komplexe Sachverhalte
  verständlich zu machen und das Interesse von Investoren zu wecken. Dabei
  geht es nicht nur um die nackten Zahlen\, sondern auch um die Vision und 
 die Motivation des Unternehmensgründers oder der Unternehmensgründerin.\
 nDie Suche nach den 'richtigen' Investorinnen und Investoren kann eine He
 rausforderung sein. Dabei ist es wichtig\, sich gut zu vernetzen\, sich au
 f relevanten Events zu präsentieren und gezielt auf potenzielle Investore
 n zuzugehen. Auch ein ansprechender Pitch\, eine klare Vision und eine üb
 erzeugende Financial Story können helfen\, das Interesse von Investorinne
 n und Investoren zu wecken.\nInsgesamt sind Finanzierung\, Start-up und In
 vestoren wichtige Aspekte für erfolgreiches Unternehmertum. Eine gute Pla
 nung und Vorbereitung können dabei helfen\, die richtigen Entscheidungen 
 zu treffen und das Wachstum des Unternehmens zu fördern.\nÜber Cocofinan
 ce:\nWir begleiten High-Growth-Startups und entwickeln individuelle und sk
 alierbare Finanz- und Controlling-Lösungen\, damit sich die Gründer:inne
 n auf ihre Kernbereiche und Stärken konzentrieren können. Als Sparringsp
 artner helfen wir Startup-Teams ihre Strukturen\, Prozesse und Systeme von
  Beginn an phasengerecht zu optimieren und zu automatisieren\nOrt: Hochsc
 hule Bochum\, Konrad-Zuse-Str. 12\, 44801 Bochum\,  Raum 15\, erste Etage
 \nVerbindliche Anmeldung über Eventbrite:\nhttps://workshop-finanzen.even
 tbrite.de\n&nbsp\;\n\n 
ATTACH;FMTTYPE=image/jpeg:https://andersmacher.w-hs.de/wp-content/uploads/
 Bild.jpg
END:VEVENT
BEGIN:VTIMEZONE
TZID:Europe/Berlin
X-LIC-LOCATION:Europe/Berlin
BEGIN:DAYLIGHT
DTSTART:20230326T030000
TZOFFSETFROM:+0100
TZOFFSETTO:+0200
TZNAME:CEST
END:DAYLIGHT
END:VTIMEZONE
END:VCALENDAR